BEGIN:VCALENDAR
VERSION:2.0
PRODID:-//Raynet//EN
CALSCALE:GREGORIAN
BEGIN:VEVENT
UID:event-2@raynet.nathandillon.co.uk
DTSTAMP:20260424T090026Z
DTSTART:20260306T191200Z
DTEND:20260307T191200Z
SUMMARY:testing
LOCATION:liverpool
DESCRIPTION:Type: test
END:VEVENT
END:VCALENDAR
