BEGIN:VCALENDAR
VERSION:2.0
PRODID:-//Raynet//EN
CALSCALE:GREGORIAN
BEGIN:VEVENT
UID:event-3@raynet.nathandillon.co.uk
DTSTAMP:20260424T102544Z
DTSTART:20260620T120000Z
DTEND:20260620T170000Z
SUMMARY:Rainford Walking Day
LOCATION:Rainford
DESCRIPTION:Type: test
END:VEVENT
END:VCALENDAR
